BEGIN:VCALENDAR
VERSION:2.0
PRODID:-//Ortsgemeinde Laumersheim in der Pfalz - ECPv6.15.20//NONSGML v1.0//EN
CALSCALE:GREGORIAN
METHOD:PUBLISH
X-WR-CALNAME:Ortsgemeinde Laumersheim in der Pfalz
X-ORIGINAL-URL:http://www.laumersheim.de
X-WR-CALDESC:Veranstaltungen für Ortsgemeinde Laumersheim in der Pfalz
REFRESH-INTERVAL;VALUE=DURATION:PT1H
X-Robots-Tag:noindex
X-PUBLISHED-TTL:PT1H
BEGIN:VTIMEZONE
TZID:Europe/Berlin
BEGIN:DAYLIGHT
TZOFFSETFROM:+0100
TZOFFSETTO:+0200
TZNAME:CEST
DTSTART:20230326T010000
END:DAYLIGHT
BEGIN:STANDARD
TZOFFSETFROM:+0200
TZOFFSETTO:+0100
TZNAME:CET
DTSTART:20231029T010000
END:STANDARD
BEGIN:DAYLIGHT
TZOFFSETFROM:+0100
TZOFFSETTO:+0200
TZNAME:CEST
DTSTART:20240331T010000
END:DAYLIGHT
BEGIN:STANDARD
TZOFFSETFROM:+0200
TZOFFSETTO:+0100
TZNAME:CET
DTSTART:20241027T010000
END:STANDARD
BEGIN:DAYLIGHT
TZOFFSETFROM:+0100
TZOFFSETTO:+0200
TZNAME:CEST
DTSTART:20250330T010000
END:DAYLIGHT
BEGIN:STANDARD
TZOFFSETFROM:+0200
TZOFFSETTO:+0100
TZNAME:CET
DTSTART:20251026T010000
END:STANDARD
END:VTIMEZONE
BEGIN:VEVENT
DTSTART;TZID=Europe/Berlin:20241221T160000
DTEND;TZID=Europe/Berlin:20241221T220000
DTSTAMP:20260419T185030
CREATED:20200108T165632Z
LAST-MODIFIED:20241204T090951Z
UID:524-1734796800-1734818400@www.laumersheim.de
SUMMARY:Laumersheimer Advent
DESCRIPTION:
URL:http://www.laumersheim.de/event/laumersheimer-advent/
LOCATION:Schulhof Grundschule
END:VEVENT
END:VCALENDAR