BEGIN:VCALENDAR
VERSION:2.0
PRODID:-//Ortsgemeinde Laumersheim in der Pfalz - ECPv6.15.20//NONSGML v1.0//EN
CALSCALE:GREGORIAN
METHOD:PUBLISH
X-ORIGINAL-URL:http://www.laumersheim.de
X-WR-CALDESC:Veranstaltungen für Ortsgemeinde Laumersheim in der Pfalz
REFRESH-INTERVAL;VALUE=DURATION:PT1H
X-Robots-Tag:noindex
X-PUBLISHED-TTL:PT1H
BEGIN:VTIMEZONE
TZID:Europe/Berlin
BEGIN:DAYLIGHT
TZOFFSETFROM:+0100
TZOFFSETTO:+0200
TZNAME:CEST
DTSTART:20230326T010000
END:DAYLIGHT
BEGIN:STANDARD
TZOFFSETFROM:+0200
TZOFFSETTO:+0100
TZNAME:CET
DTSTART:20231029T010000
END:STANDARD
BEGIN:DAYLIGHT
TZOFFSETFROM:+0100
TZOFFSETTO:+0200
TZNAME:CEST
DTSTART:20240331T010000
END:DAYLIGHT
BEGIN:STANDARD
TZOFFSETFROM:+0200
TZOFFSETTO:+0100
TZNAME:CET
DTSTART:20241027T010000
END:STANDARD
BEGIN:DAYLIGHT
TZOFFSETFROM:+0100
TZOFFSETTO:+0200
TZNAME:CEST
DTSTART:20250330T010000
END:DAYLIGHT
BEGIN:STANDARD
TZOFFSETFROM:+0200
TZOFFSETTO:+0100
TZNAME:CET
DTSTART:20251026T010000
END:STANDARD
END:VTIMEZONE
BEGIN:VEVENT
DTSTART;TZID=Europe/Berlin:20240409T150000
DTEND;TZID=Europe/Berlin:20240409T180000
DTSTAMP:20260423T133504
CREATED:20210106T185236Z
LAST-MODIFIED:20240128T142327Z
UID:576-1712674800-1712685600@www.laumersheim.de
SUMMARY:Seniorennachmittag
DESCRIPTION:
URL:http://www.laumersheim.de/event/seniorennachmittag-3/
LOCATION:Bürgerhaus\, Im Bürgerhaus\, Laumersheim\, 67229\, Deutschland
END:VEVENT
BEGIN:VEVENT
DTSTART;VALUE=DATE:20240413
DTEND;VALUE=DATE:20240415
DTSTAMP:20260423T133504
CREATED:20210106T190550Z
LAST-MODIFIED:20240128T142600Z
UID:588-1712966400-1713139199@www.laumersheim.de
SUMMARY:Apfelblütenwanderung SPD
DESCRIPTION:
URL:http://www.laumersheim.de/event/apfelbluetenwanderung-spd/
END:VEVENT
BEGIN:VEVENT
DTSTART;TZID=Europe/Berlin:20240420T183000
DTEND;TZID=Europe/Berlin:20240420T210000
DTSTAMP:20260423T133504
CREATED:20200108T163418Z
LAST-MODIFIED:20240128T143215Z
UID:476-1713637800-1713646800@www.laumersheim.de
SUMMARY:Festakt 1250 Jahre Gemeinde Laumersheim
DESCRIPTION:
URL:http://www.laumersheim.de/event/festakt-1250-jahre-gemeinde-laumersheim/
LOCATION:Bürgerhaus\, Im Bürgerhaus\, Laumersheim\, 67229\, Deutschland
END:VEVENT
END:VCALENDAR