BEGIN:VCALENDAR
VERSION:2.0
PRODID:-//Ortsgemeinde Laumersheim in der Pfalz - ECPv6.15.20//NONSGML v1.0//EN
CALSCALE:GREGORIAN
METHOD:PUBLISH
X-ORIGINAL-URL:http://www.laumersheim.de
X-WR-CALDESC:Veranstaltungen für Ortsgemeinde Laumersheim in der Pfalz
REFRESH-INTERVAL;VALUE=DURATION:PT1H
X-Robots-Tag:noindex
X-PUBLISHED-TTL:PT1H
BEGIN:VTIMEZONE
TZID:Europe/Berlin
BEGIN:DAYLIGHT
TZOFFSETFROM:+0100
TZOFFSETTO:+0200
TZNAME:CEST
DTSTART:20230326T010000
END:DAYLIGHT
BEGIN:STANDARD
TZOFFSETFROM:+0200
TZOFFSETTO:+0100
TZNAME:CET
DTSTART:20231029T010000
END:STANDARD
BEGIN:DAYLIGHT
TZOFFSETFROM:+0100
TZOFFSETTO:+0200
TZNAME:CEST
DTSTART:20240331T010000
END:DAYLIGHT
BEGIN:STANDARD
TZOFFSETFROM:+0200
TZOFFSETTO:+0100
TZNAME:CET
DTSTART:20241027T010000
END:STANDARD
BEGIN:DAYLIGHT
TZOFFSETFROM:+0100
TZOFFSETTO:+0200
TZNAME:CEST
DTSTART:20250330T010000
END:DAYLIGHT
BEGIN:STANDARD
TZOFFSETFROM:+0200
TZOFFSETTO:+0100
TZNAME:CET
DTSTART:20251026T010000
END:STANDARD
END:VTIMEZONE
BEGIN:VEVENT
DTSTART;TZID=Europe/Berlin:20240806T150000
DTEND;TZID=Europe/Berlin:20240806T180000
DTSTAMP:20260421T133442
CREATED:20210106T180139Z
LAST-MODIFIED:20240128T150408Z
UID:561-1722956400-1722967200@www.laumersheim.de
SUMMARY:Seniorennachmittag
DESCRIPTION:
URL:http://www.laumersheim.de/event/seniorennachmittag/
LOCATION:Bürgerhaus\, Im Bürgerhaus\, Laumersheim\, 67229\, Deutschland
END:VEVENT
BEGIN:VEVENT
DTSTART;VALUE=DATE:20240823
DTEND;VALUE=DATE:20240827
DTSTAMP:20260421T133442
CREATED:20200108T163823Z
LAST-MODIFIED:20240128T141928Z
UID:485-1724371200-1724716799@www.laumersheim.de
SUMMARY:Laumersheimer Kerwe
DESCRIPTION:
URL:http://www.laumersheim.de/event/laumersheimer-kerwe/
END:VEVENT
BEGIN:VEVENT
DTSTART;VALUE=DATE:20240825
DTEND;VALUE=DATE:20240826
DTSTAMP:20260421T133442
CREATED:20200108T163959Z
LAST-MODIFIED:20240128T141802Z
UID:487-1724544000-1724630399@www.laumersheim.de
SUMMARY:Kerwegottesdienst
DESCRIPTION:
URL:http://www.laumersheim.de/event/kerwegottesdienst/
LOCATION:Protestantische Kirche
END:VEVENT
BEGIN:VEVENT
DTSTART;VALUE=DATE:20240826
DTEND;VALUE=DATE:20240827
DTSTAMP:20260421T133442
CREATED:20200108T164107Z
LAST-MODIFIED:20240128T141853Z
UID:491-1724630400-1724716799@www.laumersheim.de
SUMMARY:Heringsessen Feuerwehr
DESCRIPTION:
URL:http://www.laumersheim.de/event/heringsessen-feuerwehr/
LOCATION:Weingut Steffen Zelt
END:VEVENT
END:VCALENDAR